BEGIN:VCALENDAR
VERSION:2.0
PRODID:spatie/icalendar-generator
DESCRIPTION:Events from Indeependance
X-WR-CALDESC:Events from Indeependance
REFRESH-INTERVAL;VALUE=DURATION:PT1440M
X-PUBLISHED-TTL:PT1440M
BEGIN:VTIMEZONE
TZID:Europe/Berlin
BEGIN:STANDARD
DTSTART:20241027T030000Z
TZOFFSETFROM:+0200
TZOFFSETTO:+0100
END:STANDARD
BEGIN:DAYLIGHT
DTSTART:20250330T020000Z
TZOFFSETFROM:+0100
TZOFFSETTO:+0200
END:DAYLIGHT
BEGIN:STANDARD
DTSTART:20251026T030000Z
TZOFFSETFROM:+0200
TZOFFSETTO:+0100
END:STANDARD
END:VTIMEZONE
BEGIN:VTIMEZONE
TZID:UTC
BEGIN:STANDARD
DTSTART:20250725T035805Z
TZOFFSETFROM:+0000
TZOFFSETTO:+0000
END:STANDARD
END:VTIMEZONE
BEGIN:VEVENT
UID:13447-266
DTSTAMP:20260421T035805Z
SUMMARY:EINZELCOACHINGS GUIDO HOLLEFELD/ Stuttgart
LOCATION:
ORGANIZER;CN=Naida Bleile:MAILTO:info@indeependance.de
DTSTART;TZID=Europe/Berlin:20250620T080000
DTEND;TZID=Europe/Berlin:20250620T180000
X-ALT-DESC;FMTTYPE=TEXT/HTML:Alle Infos im Link https://forms.gle/W8n2Y8Kd
 TZmPec529
CATEGORIES:SPECIAL
URL;VALUE=URI:https://www.indeependance.de/mc-events/einzelcoachings-guido-
 hollefeld-stuttgart/?mc_id=13447
END:VEVENT
END:VCALENDAR